BEGIN:VCALENDAR
VERSION:2.0
PRODID:-//Huis van Compassie - ECPv6.15.15//NONSGML v1.0//EN
CALSCALE:GREGORIAN
METHOD:PUBLISH
X-WR-CALNAME:Huis van Compassie
X-ORIGINAL-URL:https://huisvancompassienijmegen.nl
X-WR-CALDESC:Evenementen voor Huis van Compassie
REFRESH-INTERVAL;VALUE=DURATION:PT1H
X-Robots-Tag:noindex
X-PUBLISHED-TTL:PT1H
BEGIN:VTIMEZONE
TZID:Europe/Amsterdam
BEGIN:DAYLIGHT
TZOFFSETFROM:+0100
TZOFFSETTO:+0200
TZNAME:CEST
DTSTART:20240331T010000
END:DAYLIGHT
BEGIN:STANDARD
TZOFFSETFROM:+0200
TZOFFSETTO:+0100
TZNAME:CET
DTSTART:20241027T010000
END:STANDARD
BEGIN:DAYLIGHT
TZOFFSETFROM:+0100
TZOFFSETTO:+0200
TZNAME:CEST
DTSTART:20250330T010000
END:DAYLIGHT
BEGIN:STANDARD
TZOFFSETFROM:+0200
TZOFFSETTO:+0100
TZNAME:CET
DTSTART:20251026T010000
END:STANDARD
BEGIN:DAYLIGHT
TZOFFSETFROM:+0100
TZOFFSETTO:+0200
TZNAME:CEST
DTSTART:20260329T010000
END:DAYLIGHT
BEGIN:STANDARD
TZOFFSETFROM:+0200
TZOFFSETTO:+0100
TZNAME:CET
DTSTART:20261025T010000
END:STANDARD
END:VTIMEZONE
BEGIN:VEVENT
DTSTART;TZID=Europe/Amsterdam:20250516T150000
DTEND;TZID=Europe/Amsterdam:20250516T170000
DTSTAMP:20260422T065553
CREATED:20250422T195604Z
LAST-MODIFIED:20250422T195604Z
UID:11149-1747407600-1747414800@huisvancompassienijmegen.nl
SUMMARY:Themamiddag verlies van gezondheid
DESCRIPTION:De werkgroep Verlies en Rouw (samenwerking tussen Huis van Compassie\, de Ontmoetingskerk en de Wijkfabriek) organiseert vrijdag 16 mei van 15.00-17.00 een themamiddag over verlies van gezondheid. \nVoor meer info zie de flyer \n 
URL:https://huisvancompassienijmegen.nl/event/themamiddag-verlies-van-gezondheid/
LOCATION:ontmoetingskerk nijmegen\, Meijhorst 70-33\, Nijmegen\, Gelderland\, 6537 EP\, Netherlands
ATTACH;FMTTYPE=application/pdf:https://huisvancompassienijmegen.nl/wp-content/uploads/2025/04/poster-omgaan-met-gezondheid-def.pdf
END:VEVENT
END:VCALENDAR