BEGIN:VCALENDAR
VERSION:2.0
PRODID:-//Huis van Compassie - ECPv6.15.15//NONSGML v1.0//EN
CALSCALE:GREGORIAN
METHOD:PUBLISH
X-WR-CALNAME:Huis van Compassie
X-ORIGINAL-URL:https://huisvancompassienijmegen.nl
X-WR-CALDESC:Evenementen voor Huis van Compassie
REFRESH-INTERVAL;VALUE=DURATION:PT1H
X-Robots-Tag:noindex
X-PUBLISHED-TTL:PT1H
BEGIN:VTIMEZONE
TZID:Europe/Amsterdam
BEGIN:DAYLIGHT
TZOFFSETFROM:+0100
TZOFFSETTO:+0200
TZNAME:CEST
DTSTART:20240331T010000
END:DAYLIGHT
BEGIN:STANDARD
TZOFFSETFROM:+0200
TZOFFSETTO:+0100
TZNAME:CET
DTSTART:20241027T010000
END:STANDARD
BEGIN:DAYLIGHT
TZOFFSETFROM:+0100
TZOFFSETTO:+0200
TZNAME:CEST
DTSTART:20250330T010000
END:DAYLIGHT
BEGIN:STANDARD
TZOFFSETFROM:+0200
TZOFFSETTO:+0100
TZNAME:CET
DTSTART:20251026T010000
END:STANDARD
BEGIN:DAYLIGHT
TZOFFSETFROM:+0100
TZOFFSETTO:+0200
TZNAME:CEST
DTSTART:20260329T010000
END:DAYLIGHT
BEGIN:STANDARD
TZOFFSETFROM:+0200
TZOFFSETTO:+0100
TZNAME:CET
DTSTART:20261025T010000
END:STANDARD
END:VTIMEZONE
BEGIN:VEVENT
DTSTART;TZID=Europe/Amsterdam:20250501T120000
DTEND;TZID=Europe/Amsterdam:20250501T133000
DTSTAMP:20260420T043626
CREATED:20250313T113105Z
LAST-MODIFIED:20250313T113105Z
UID:10000732-1746100800-1746106200@huisvancompassienijmegen.nl
SUMMARY:Soep/Lunch
DESCRIPTION:
URL:https://huisvancompassienijmegen.nl/event/soep-lunch/2025-05-01/
LOCATION:Huiskamer\, Vlietstraat\, 20b\, Nijmegen\, 6542 SL\, Netherlands
ATTACH;FMTTYPE=image/jpeg:https://huisvancompassienijmegen.nl/wp-content/uploads/2024/11/0B7864A9-35A8-4708-800B-401573EC4E0C-e1741865616716.jpeg
END:VEVENT
END:VCALENDAR