BEGIN:VCALENDAR
VERSION:2.0
PRODID:-//Huis van Compassie - ECPv6.15.15//NONSGML v1.0//EN
CALSCALE:GREGORIAN
METHOD:PUBLISH
X-WR-CALNAME:Huis van Compassie
X-ORIGINAL-URL:https://huisvancompassienijmegen.nl
X-WR-CALDESC:Evenementen voor Huis van Compassie
REFRESH-INTERVAL;VALUE=DURATION:PT1H
X-Robots-Tag:noindex
X-PUBLISHED-TTL:PT1H
BEGIN:VTIMEZONE
TZID:Europe/Amsterdam
BEGIN:DAYLIGHT
TZOFFSETFROM:+0100
TZOFFSETTO:+0200
TZNAME:CEST
DTSTART:20250330T010000
END:DAYLIGHT
BEGIN:STANDARD
TZOFFSETFROM:+0200
TZOFFSETTO:+0100
TZNAME:CET
DTSTART:20251026T010000
END:STANDARD
BEGIN:DAYLIGHT
TZOFFSETFROM:+0100
TZOFFSETTO:+0200
TZNAME:CEST
DTSTART:20260329T010000
END:DAYLIGHT
BEGIN:STANDARD
TZOFFSETFROM:+0200
TZOFFSETTO:+0100
TZNAME:CET
DTSTART:20261025T010000
END:STANDARD
BEGIN:DAYLIGHT
TZOFFSETFROM:+0100
TZOFFSETTO:+0200
TZNAME:CEST
DTSTART:20270328T010000
END:DAYLIGHT
BEGIN:STANDARD
TZOFFSETFROM:+0200
TZOFFSETTO:+0100
TZNAME:CET
DTSTART:20271031T010000
END:STANDARD
END:VTIMEZONE
BEGIN:VEVENT
DTSTART;TZID=Europe/Amsterdam:20260424T140000
DTEND;TZID=Europe/Amsterdam:20260424T160000
DTSTAMP:20260421T130440
CREATED:20260331T124735Z
LAST-MODIFIED:20260331T124735Z
UID:12594-1777039200-1777046400@huisvancompassienijmegen.nl
SUMMARY:Rondje Zachtheid
DESCRIPTION:Iedere laatste vrijdag van de maand is een landelijk wandel initiatief. Het heet Rondje Zachtheid. Wandelen om te genieten van de natuur\, te praten over de dingen des levens en verbinding met elkaar te maken. Inmiddels zijn er 22 plaatsen in Nederland aangesloten (en 1 in België). \nDeze msnd bij uitzondering op de derde vrijdag van de maand i.v.m. Kerstmis. \nIn Nijmegen starten we standaard om 14.00 uur bij de Brug naar de Ooijpolder (de ‘wiebelbrug’). We wandelen ongeveer een uurtje en drinken soms tijdens of na de wandeling een bakkie samen. \nWeet je welkom en neem jouw partner/buren/vrienden mee. Je hoeft je niet aan te melden.
URL:https://huisvancompassienijmegen.nl/event/rondje-zachtheid-8/
ATTACH;FMTTYPE=image/jpeg:https://huisvancompassienijmegen.nl/wp-content/uploads/2025/04/bewerkte-groep-scaled.jpg
END:VEVENT
END:VCALENDAR