BEGIN:VCALENDAR
VERSION:2.0
PRODID:-//Huis van Compassie - ECPv6.15.20//NONSGML v1.0//EN
CALSCALE:GREGORIAN
METHOD:PUBLISH
X-WR-CALNAME:Huis van Compassie
X-ORIGINAL-URL:https://huisvancompassienijmegen.nl
X-WR-CALDESC:Evenementen voor Huis van Compassie
REFRESH-INTERVAL;VALUE=DURATION:PT1H
X-Robots-Tag:noindex
X-PUBLISHED-TTL:PT1H
BEGIN:VTIMEZONE
TZID:Europe/Amsterdam
BEGIN:DAYLIGHT
TZOFFSETFROM:+0100
TZOFFSETTO:+0200
TZNAME:CEST
DTSTART:20240331T010000
END:DAYLIGHT
BEGIN:STANDARD
TZOFFSETFROM:+0200
TZOFFSETTO:+0100
TZNAME:CET
DTSTART:20241027T010000
END:STANDARD
BEGIN:DAYLIGHT
TZOFFSETFROM:+0100
TZOFFSETTO:+0200
TZNAME:CEST
DTSTART:20250330T010000
END:DAYLIGHT
BEGIN:STANDARD
TZOFFSETFROM:+0200
TZOFFSETTO:+0100
TZNAME:CET
DTSTART:20251026T010000
END:STANDARD
BEGIN:DAYLIGHT
TZOFFSETFROM:+0100
TZOFFSETTO:+0200
TZNAME:CEST
DTSTART:20260329T010000
END:DAYLIGHT
BEGIN:STANDARD
TZOFFSETFROM:+0200
TZOFFSETTO:+0100
TZNAME:CET
DTSTART:20261025T010000
END:STANDARD
END:VTIMEZONE
BEGIN:VEVENT
DTSTART;TZID=Europe/Amsterdam:20250526T180000
DTEND;TZID=Europe/Amsterdam:20250526T200000
DTSTAMP:20260424T213730
CREATED:20250507T095200Z
LAST-MODIFIED:20250507T095202Z
UID:11287-1748282400-1748289600@huisvancompassienijmegen.nl
SUMMARY:Eet en Ontmoet\, thema: De gemeente en armoede verzachten: wat doen ze al en wat willen ze doen? 
DESCRIPTION:Bij het Huis van Compassie staat ontmoeting centraal. Elke maandag bieden we een gezonde maaltijd aan en een kans om mensen buiten je bubbel te ontmoeten. Behandel de ander zoals je zelf behandeld wilt worden – dat is onze kernwaarde. \nHoe werkt het? \nMeld je uiterlijk vrijdag voor 12.00 uur aan via: \neen WhatsApp naar: 06-3941 4815 en wacht op bevestiging of \nschrijf je in voor de volgende avond op de aanmeldlijst tijdens de maaltijd.
URL:https://huisvancompassienijmegen.nl/event/eet-en-ontmoet-4/
ATTACH;FMTTYPE=image/jpeg:https://huisvancompassienijmegen.nl/wp-content/uploads/2024/11/6D70ABD9-DF50-4901-92E6-E502EF920344.jpeg
END:VEVENT
END:VCALENDAR