BEGIN:VCALENDAR
VERSION:2.0
PRODID:-//Huis van Compassie - ECPv6.15.15//NONSGML v1.0//EN
CALSCALE:GREGORIAN
METHOD:PUBLISH
X-WR-CALNAME:Huis van Compassie
X-ORIGINAL-URL:https://huisvancompassienijmegen.nl
X-WR-CALDESC:Evenementen voor Huis van Compassie
REFRESH-INTERVAL;VALUE=DURATION:PT1H
X-Robots-Tag:noindex
X-PUBLISHED-TTL:PT1H
BEGIN:VTIMEZONE
TZID:Europe/Amsterdam
BEGIN:DAYLIGHT
TZOFFSETFROM:+0100
TZOFFSETTO:+0200
TZNAME:CEST
DTSTART:20250330T010000
END:DAYLIGHT
BEGIN:STANDARD
TZOFFSETFROM:+0200
TZOFFSETTO:+0100
TZNAME:CET
DTSTART:20251026T010000
END:STANDARD
BEGIN:DAYLIGHT
TZOFFSETFROM:+0100
TZOFFSETTO:+0200
TZNAME:CEST
DTSTART:20260329T010000
END:DAYLIGHT
BEGIN:STANDARD
TZOFFSETFROM:+0200
TZOFFSETTO:+0100
TZNAME:CET
DTSTART:20261025T010000
END:STANDARD
BEGIN:DAYLIGHT
TZOFFSETFROM:+0100
TZOFFSETTO:+0200
TZNAME:CEST
DTSTART:20270328T010000
END:DAYLIGHT
BEGIN:STANDARD
TZOFFSETFROM:+0200
TZOFFSETTO:+0100
TZNAME:CET
DTSTART:20271031T010000
END:STANDARD
BEGIN:DAYLIGHT
TZOFFSETFROM:+0100
TZOFFSETTO:+0200
TZNAME:CEST
DTSTART:20280326T010000
END:DAYLIGHT
BEGIN:STANDARD
TZOFFSETFROM:+0200
TZOFFSETTO:+0100
TZNAME:CET
DTSTART:20281029T010000
END:STANDARD
BEGIN:DAYLIGHT
TZOFFSETFROM:+0100
TZOFFSETTO:+0200
TZNAME:CEST
DTSTART:20290325T010000
END:DAYLIGHT
BEGIN:STANDARD
TZOFFSETFROM:+0200
TZOFFSETTO:+0100
TZNAME:CET
DTSTART:20291028T010000
END:STANDARD
END:VTIMEZONE
BEGIN:VEVENT
DTSTART;TZID=Europe/Amsterdam:20260515T130000
DTEND;TZID=Europe/Amsterdam:20260515T160000
DTSTAMP:20260420T125815
CREATED:20250313T103812Z
LAST-MODIFIED:20250313T103812Z
UID:10000359-1778850000-1778860800@huisvancompassienijmegen.nl
SUMMARY:Repair café
DESCRIPTION:
URL:https://huisvancompassienijmegen.nl/event/repair-cafe/2026-05-15/
ATTACH;FMTTYPE=image/jpeg:https://huisvancompassienijmegen.nl/wp-content/uploads/2024/11/879D31BF-67AD-4E84-B0AC-47C91D88C6F6.jpeg
END:VEVENT
BEGIN:VEVENT
DTSTART;TZID=Europe/Amsterdam:20260619T130000
DTEND;TZID=Europe/Amsterdam:20260619T160000
DTSTAMP:20260420T125815
CREATED:20250313T103812Z
LAST-MODIFIED:20250313T103812Z
UID:10000360-1781874000-1781884800@huisvancompassienijmegen.nl
SUMMARY:Repair café
DESCRIPTION:
URL:https://huisvancompassienijmegen.nl/event/repair-cafe/2026-06-19/
ATTACH;FMTTYPE=image/jpeg:https://huisvancompassienijmegen.nl/wp-content/uploads/2024/11/879D31BF-67AD-4E84-B0AC-47C91D88C6F6.jpeg
END:VEVENT
BEGIN:VEVENT
DTSTART;TZID=Europe/Amsterdam:20260717T130000
DTEND;TZID=Europe/Amsterdam:20260717T160000
DTSTAMP:20260420T125815
CREATED:20250313T103812Z
LAST-MODIFIED:20250313T103812Z
UID:10000361-1784293200-1784304000@huisvancompassienijmegen.nl
SUMMARY:Repair café
DESCRIPTION:
URL:https://huisvancompassienijmegen.nl/event/repair-cafe/2026-07-17/
ATTACH;FMTTYPE=image/jpeg:https://huisvancompassienijmegen.nl/wp-content/uploads/2024/11/879D31BF-67AD-4E84-B0AC-47C91D88C6F6.jpeg
END:VEVENT
BEGIN:VEVENT
DTSTART;TZID=Europe/Amsterdam:20260821T130000
DTEND;TZID=Europe/Amsterdam:20260821T160000
DTSTAMP:20260420T125815
CREATED:20250313T103812Z
LAST-MODIFIED:20250313T103812Z
UID:10000362-1787317200-1787328000@huisvancompassienijmegen.nl
SUMMARY:Repair café
DESCRIPTION:
URL:https://huisvancompassienijmegen.nl/event/repair-cafe/2026-08-21/
ATTACH;FMTTYPE=image/jpeg:https://huisvancompassienijmegen.nl/wp-content/uploads/2024/11/879D31BF-67AD-4E84-B0AC-47C91D88C6F6.jpeg
END:VEVENT
BEGIN:VEVENT
DTSTART;TZID=Europe/Amsterdam:20260918T130000
DTEND;TZID=Europe/Amsterdam:20260918T160000
DTSTAMP:20260420T125815
CREATED:20250313T103812Z
LAST-MODIFIED:20250313T103812Z
UID:10000363-1789736400-1789747200@huisvancompassienijmegen.nl
SUMMARY:Repair café
DESCRIPTION:
URL:https://huisvancompassienijmegen.nl/event/repair-cafe/2026-09-18/
ATTACH;FMTTYPE=image/jpeg:https://huisvancompassienijmegen.nl/wp-content/uploads/2024/11/879D31BF-67AD-4E84-B0AC-47C91D88C6F6.jpeg
END:VEVENT
BEGIN:VEVENT
DTSTART;TZID=Europe/Amsterdam:20261016T130000
DTEND;TZID=Europe/Amsterdam:20261016T160000
DTSTAMP:20260420T125815
CREATED:20250313T103812Z
LAST-MODIFIED:20250313T103812Z
UID:10000364-1792155600-1792166400@huisvancompassienijmegen.nl
SUMMARY:Repair café
DESCRIPTION:
URL:https://huisvancompassienijmegen.nl/event/repair-cafe/2026-10-16/
ATTACH;FMTTYPE=image/jpeg:https://huisvancompassienijmegen.nl/wp-content/uploads/2024/11/879D31BF-67AD-4E84-B0AC-47C91D88C6F6.jpeg
END:VEVENT
BEGIN:VEVENT
DTSTART;TZID=Europe/Amsterdam:20261120T130000
DTEND;TZID=Europe/Amsterdam:20261120T160000
DTSTAMP:20260420T125815
CREATED:20250313T103812Z
LAST-MODIFIED:20250313T103812Z
UID:10000365-1795179600-1795190400@huisvancompassienijmegen.nl
SUMMARY:Repair café
DESCRIPTION:
URL:https://huisvancompassienijmegen.nl/event/repair-cafe/2026-11-20/
ATTACH;FMTTYPE=image/jpeg:https://huisvancompassienijmegen.nl/wp-content/uploads/2024/11/879D31BF-67AD-4E84-B0AC-47C91D88C6F6.jpeg
END:VEVENT
BEGIN:VEVENT
DTSTART;TZID=Europe/Amsterdam:20261218T130000
DTEND;TZID=Europe/Amsterdam:20261218T160000
DTSTAMP:20260420T125815
CREATED:20250313T103812Z
LAST-MODIFIED:20250313T103812Z
UID:10000366-1797598800-1797609600@huisvancompassienijmegen.nl
SUMMARY:Repair café
DESCRIPTION:
URL:https://huisvancompassienijmegen.nl/event/repair-cafe/2026-12-18/
ATTACH;FMTTYPE=image/jpeg:https://huisvancompassienijmegen.nl/wp-content/uploads/2024/11/879D31BF-67AD-4E84-B0AC-47C91D88C6F6.jpeg
END:VEVENT
BEGIN:VEVENT
DTSTART;TZID=Europe/Amsterdam:20270115T130000
DTEND;TZID=Europe/Amsterdam:20270115T160000
DTSTAMP:20260420T125815
CREATED:20250313T103812Z
LAST-MODIFIED:20250313T103812Z
UID:10000367-1800018000-1800028800@huisvancompassienijmegen.nl
SUMMARY:Repair café
DESCRIPTION:
URL:https://huisvancompassienijmegen.nl/event/repair-cafe/2027-01-15/
ATTACH;FMTTYPE=image/jpeg:https://huisvancompassienijmegen.nl/wp-content/uploads/2024/11/879D31BF-67AD-4E84-B0AC-47C91D88C6F6.jpeg
END:VEVENT
BEGIN:VEVENT
DTSTART;TZID=Europe/Amsterdam:20270219T130000
DTEND;TZID=Europe/Amsterdam:20270219T160000
DTSTAMP:20260420T125815
CREATED:20250313T103812Z
LAST-MODIFIED:20250313T103812Z
UID:10000368-1803042000-1803052800@huisvancompassienijmegen.nl
SUMMARY:Repair café
DESCRIPTION:
URL:https://huisvancompassienijmegen.nl/event/repair-cafe/2027-02-19/
ATTACH;FMTTYPE=image/jpeg:https://huisvancompassienijmegen.nl/wp-content/uploads/2024/11/879D31BF-67AD-4E84-B0AC-47C91D88C6F6.jpeg
END:VEVENT
BEGIN:VEVENT
DTSTART;TZID=Europe/Amsterdam:20270319T130000
DTEND;TZID=Europe/Amsterdam:20270319T160000
DTSTAMP:20260420T125815
CREATED:20250313T103812Z
LAST-MODIFIED:20250313T103812Z
UID:10000369-1805461200-1805472000@huisvancompassienijmegen.nl
SUMMARY:Repair café
DESCRIPTION:
URL:https://huisvancompassienijmegen.nl/event/repair-cafe/2027-03-19/
ATTACH;FMTTYPE=image/jpeg:https://huisvancompassienijmegen.nl/wp-content/uploads/2024/11/879D31BF-67AD-4E84-B0AC-47C91D88C6F6.jpeg
END:VEVENT
BEGIN:VEVENT
DTSTART;TZID=Europe/Amsterdam:20270416T130000
DTEND;TZID=Europe/Amsterdam:20270416T160000
DTSTAMP:20260420T125815
CREATED:20250313T103812Z
LAST-MODIFIED:20250313T103812Z
UID:10000370-1807880400-1807891200@huisvancompassienijmegen.nl
SUMMARY:Repair café
DESCRIPTION:
URL:https://huisvancompassienijmegen.nl/event/repair-cafe/2027-04-16/
ATTACH;FMTTYPE=image/jpeg:https://huisvancompassienijmegen.nl/wp-content/uploads/2024/11/879D31BF-67AD-4E84-B0AC-47C91D88C6F6.jpeg
END:VEVENT
BEGIN:VEVENT
DTSTART;TZID=Europe/Amsterdam:20270521T130000
DTEND;TZID=Europe/Amsterdam:20270521T160000
DTSTAMP:20260420T125815
CREATED:20250313T103812Z
LAST-MODIFIED:20250313T103812Z
UID:10000371-1810904400-1810915200@huisvancompassienijmegen.nl
SUMMARY:Repair café
DESCRIPTION:
URL:https://huisvancompassienijmegen.nl/event/repair-cafe/2027-05-21/
ATTACH;FMTTYPE=image/jpeg:https://huisvancompassienijmegen.nl/wp-content/uploads/2024/11/879D31BF-67AD-4E84-B0AC-47C91D88C6F6.jpeg
END:VEVENT
BEGIN:VEVENT
DTSTART;TZID=Europe/Amsterdam:20270618T130000
DTEND;TZID=Europe/Amsterdam:20270618T160000
DTSTAMP:20260420T125815
CREATED:20250313T103812Z
LAST-MODIFIED:20250313T103812Z
UID:10000372-1813323600-1813334400@huisvancompassienijmegen.nl
SUMMARY:Repair café
DESCRIPTION:
URL:https://huisvancompassienijmegen.nl/event/repair-cafe/2027-06-18/
ATTACH;FMTTYPE=image/jpeg:https://huisvancompassienijmegen.nl/wp-content/uploads/2024/11/879D31BF-67AD-4E84-B0AC-47C91D88C6F6.jpeg
END:VEVENT
BEGIN:VEVENT
DTSTART;TZID=Europe/Amsterdam:20270716T130000
DTEND;TZID=Europe/Amsterdam:20270716T160000
DTSTAMP:20260420T125815
CREATED:20250313T103812Z
LAST-MODIFIED:20250313T103812Z
UID:10000373-1815742800-1815753600@huisvancompassienijmegen.nl
SUMMARY:Repair café
DESCRIPTION:
URL:https://huisvancompassienijmegen.nl/event/repair-cafe/2027-07-16/
ATTACH;FMTTYPE=image/jpeg:https://huisvancompassienijmegen.nl/wp-content/uploads/2024/11/879D31BF-67AD-4E84-B0AC-47C91D88C6F6.jpeg
END:VEVENT
BEGIN:VEVENT
DTSTART;TZID=Europe/Amsterdam:20270820T130000
DTEND;TZID=Europe/Amsterdam:20270820T160000
DTSTAMP:20260420T125815
CREATED:20250313T103812Z
LAST-MODIFIED:20250313T103812Z
UID:10000374-1818766800-1818777600@huisvancompassienijmegen.nl
SUMMARY:Repair café
DESCRIPTION:
URL:https://huisvancompassienijmegen.nl/event/repair-cafe/2027-08-20/
ATTACH;FMTTYPE=image/jpeg:https://huisvancompassienijmegen.nl/wp-content/uploads/2024/11/879D31BF-67AD-4E84-B0AC-47C91D88C6F6.jpeg
END:VEVENT
BEGIN:VEVENT
DTSTART;TZID=Europe/Amsterdam:20270917T130000
DTEND;TZID=Europe/Amsterdam:20270917T160000
DTSTAMP:20260420T125815
CREATED:20250313T103812Z
LAST-MODIFIED:20250313T103812Z
UID:10000375-1821186000-1821196800@huisvancompassienijmegen.nl
SUMMARY:Repair café
DESCRIPTION:
URL:https://huisvancompassienijmegen.nl/event/repair-cafe/2027-09-17/
ATTACH;FMTTYPE=image/jpeg:https://huisvancompassienijmegen.nl/wp-content/uploads/2024/11/879D31BF-67AD-4E84-B0AC-47C91D88C6F6.jpeg
END:VEVENT
BEGIN:VEVENT
DTSTART;TZID=Europe/Amsterdam:20271015T130000
DTEND;TZID=Europe/Amsterdam:20271015T160000
DTSTAMP:20260420T125815
CREATED:20250313T103812Z
LAST-MODIFIED:20250313T103812Z
UID:10000376-1823605200-1823616000@huisvancompassienijmegen.nl
SUMMARY:Repair café
DESCRIPTION:
URL:https://huisvancompassienijmegen.nl/event/repair-cafe/2027-10-15/
ATTACH;FMTTYPE=image/jpeg:https://huisvancompassienijmegen.nl/wp-content/uploads/2024/11/879D31BF-67AD-4E84-B0AC-47C91D88C6F6.jpeg
END:VEVENT
BEGIN:VEVENT
DTSTART;TZID=Europe/Amsterdam:20271119T130000
DTEND;TZID=Europe/Amsterdam:20271119T160000
DTSTAMP:20260420T125815
CREATED:20250313T103812Z
LAST-MODIFIED:20250313T103812Z
UID:10000377-1826629200-1826640000@huisvancompassienijmegen.nl
SUMMARY:Repair café
DESCRIPTION:
URL:https://huisvancompassienijmegen.nl/event/repair-cafe/2027-11-19/
ATTACH;FMTTYPE=image/jpeg:https://huisvancompassienijmegen.nl/wp-content/uploads/2024/11/879D31BF-67AD-4E84-B0AC-47C91D88C6F6.jpeg
END:VEVENT
BEGIN:VEVENT
DTSTART;TZID=Europe/Amsterdam:20271217T130000
DTEND;TZID=Europe/Amsterdam:20271217T160000
DTSTAMP:20260420T125815
CREATED:20250313T103812Z
LAST-MODIFIED:20250313T103812Z
UID:10000378-1829048400-1829059200@huisvancompassienijmegen.nl
SUMMARY:Repair café
DESCRIPTION:
URL:https://huisvancompassienijmegen.nl/event/repair-cafe/2027-12-17/
ATTACH;FMTTYPE=image/jpeg:https://huisvancompassienijmegen.nl/wp-content/uploads/2024/11/879D31BF-67AD-4E84-B0AC-47C91D88C6F6.jpeg
END:VEVENT
BEGIN:VEVENT
DTSTART;TZID=Europe/Amsterdam:20280121T130000
DTEND;TZID=Europe/Amsterdam:20280121T160000
DTSTAMP:20260420T125815
CREATED:20250313T103812Z
LAST-MODIFIED:20250313T103812Z
UID:10000379-1832072400-1832083200@huisvancompassienijmegen.nl
SUMMARY:Repair café
DESCRIPTION:
URL:https://huisvancompassienijmegen.nl/event/repair-cafe/2028-01-21/
ATTACH;FMTTYPE=image/jpeg:https://huisvancompassienijmegen.nl/wp-content/uploads/2024/11/879D31BF-67AD-4E84-B0AC-47C91D88C6F6.jpeg
END:VEVENT
BEGIN:VEVENT
DTSTART;TZID=Europe/Amsterdam:20280218T130000
DTEND;TZID=Europe/Amsterdam:20280218T160000
DTSTAMP:20260420T125815
CREATED:20250313T103812Z
LAST-MODIFIED:20250313T103812Z
UID:10000380-1834491600-1834502400@huisvancompassienijmegen.nl
SUMMARY:Repair café
DESCRIPTION:
URL:https://huisvancompassienijmegen.nl/event/repair-cafe/2028-02-18/
ATTACH;FMTTYPE=image/jpeg:https://huisvancompassienijmegen.nl/wp-content/uploads/2024/11/879D31BF-67AD-4E84-B0AC-47C91D88C6F6.jpeg
END:VEVENT
BEGIN:VEVENT
DTSTART;TZID=Europe/Amsterdam:20280317T130000
DTEND;TZID=Europe/Amsterdam:20280317T160000
DTSTAMP:20260420T125815
CREATED:20250313T103812Z
LAST-MODIFIED:20250313T103812Z
UID:10000381-1836910800-1836921600@huisvancompassienijmegen.nl
SUMMARY:Repair café
DESCRIPTION:
URL:https://huisvancompassienijmegen.nl/event/repair-cafe/2028-03-17/
ATTACH;FMTTYPE=image/jpeg:https://huisvancompassienijmegen.nl/wp-content/uploads/2024/11/879D31BF-67AD-4E84-B0AC-47C91D88C6F6.jpeg
END:VEVENT
BEGIN:VEVENT
DTSTART;TZID=Europe/Amsterdam:20280421T130000
DTEND;TZID=Europe/Amsterdam:20280421T160000
DTSTAMP:20260420T125815
CREATED:20250313T103812Z
LAST-MODIFIED:20250313T103812Z
UID:10000382-1839934800-1839945600@huisvancompassienijmegen.nl
SUMMARY:Repair café
DESCRIPTION:
URL:https://huisvancompassienijmegen.nl/event/repair-cafe/2028-04-21/
ATTACH;FMTTYPE=image/jpeg:https://huisvancompassienijmegen.nl/wp-content/uploads/2024/11/879D31BF-67AD-4E84-B0AC-47C91D88C6F6.jpeg
END:VEVENT
BEGIN:VEVENT
DTSTART;TZID=Europe/Amsterdam:20280519T130000
DTEND;TZID=Europe/Amsterdam:20280519T160000
DTSTAMP:20260420T125815
CREATED:20250313T103812Z
LAST-MODIFIED:20250313T103812Z
UID:10000383-1842354000-1842364800@huisvancompassienijmegen.nl
SUMMARY:Repair café
DESCRIPTION:
URL:https://huisvancompassienijmegen.nl/event/repair-cafe/2028-05-19/
ATTACH;FMTTYPE=image/jpeg:https://huisvancompassienijmegen.nl/wp-content/uploads/2024/11/879D31BF-67AD-4E84-B0AC-47C91D88C6F6.jpeg
END:VEVENT
BEGIN:VEVENT
DTSTART;TZID=Europe/Amsterdam:20280616T130000
DTEND;TZID=Europe/Amsterdam:20280616T160000
DTSTAMP:20260420T125815
CREATED:20250313T103812Z
LAST-MODIFIED:20250313T103812Z
UID:10000384-1844773200-1844784000@huisvancompassienijmegen.nl
SUMMARY:Repair café
DESCRIPTION:
URL:https://huisvancompassienijmegen.nl/event/repair-cafe/2028-06-16/
ATTACH;FMTTYPE=image/jpeg:https://huisvancompassienijmegen.nl/wp-content/uploads/2024/11/879D31BF-67AD-4E84-B0AC-47C91D88C6F6.jpeg
END:VEVENT
BEGIN:VEVENT
DTSTART;TZID=Europe/Amsterdam:20280721T130000
DTEND;TZID=Europe/Amsterdam:20280721T160000
DTSTAMP:20260420T125815
CREATED:20250313T103812Z
LAST-MODIFIED:20250313T103812Z
UID:10000385-1847797200-1847808000@huisvancompassienijmegen.nl
SUMMARY:Repair café
DESCRIPTION:
URL:https://huisvancompassienijmegen.nl/event/repair-cafe/2028-07-21/
ATTACH;FMTTYPE=image/jpeg:https://huisvancompassienijmegen.nl/wp-content/uploads/2024/11/879D31BF-67AD-4E84-B0AC-47C91D88C6F6.jpeg
END:VEVENT
BEGIN:VEVENT
DTSTART;TZID=Europe/Amsterdam:20280818T130000
DTEND;TZID=Europe/Amsterdam:20280818T160000
DTSTAMP:20260420T125815
CREATED:20250313T103812Z
LAST-MODIFIED:20250313T103812Z
UID:10000386-1850216400-1850227200@huisvancompassienijmegen.nl
SUMMARY:Repair café
DESCRIPTION:
URL:https://huisvancompassienijmegen.nl/event/repair-cafe/2028-08-18/
ATTACH;FMTTYPE=image/jpeg:https://huisvancompassienijmegen.nl/wp-content/uploads/2024/11/879D31BF-67AD-4E84-B0AC-47C91D88C6F6.jpeg
END:VEVENT
BEGIN:VEVENT
DTSTART;TZID=Europe/Amsterdam:20280915T130000
DTEND;TZID=Europe/Amsterdam:20280915T160000
DTSTAMP:20260420T125815
CREATED:20250313T103812Z
LAST-MODIFIED:20250313T103812Z
UID:10000387-1852635600-1852646400@huisvancompassienijmegen.nl
SUMMARY:Repair café
DESCRIPTION:
URL:https://huisvancompassienijmegen.nl/event/repair-cafe/2028-09-15/
ATTACH;FMTTYPE=image/jpeg:https://huisvancompassienijmegen.nl/wp-content/uploads/2024/11/879D31BF-67AD-4E84-B0AC-47C91D88C6F6.jpeg
END:VEVENT
BEGIN:VEVENT
DTSTART;TZID=Europe/Amsterdam:20281020T130000
DTEND;TZID=Europe/Amsterdam:20281020T160000
DTSTAMP:20260420T125815
CREATED:20250313T103812Z
LAST-MODIFIED:20250313T103812Z
UID:10000388-1855659600-1855670400@huisvancompassienijmegen.nl
SUMMARY:Repair café
DESCRIPTION:
URL:https://huisvancompassienijmegen.nl/event/repair-cafe/2028-10-20/
ATTACH;FMTTYPE=image/jpeg:https://huisvancompassienijmegen.nl/wp-content/uploads/2024/11/879D31BF-67AD-4E84-B0AC-47C91D88C6F6.jpeg
END:VEVENT
END:VCALENDAR